Workbook

Sheet Ratios
A1: Performance Measure or Ratio | B1: McDonalds | D1: Competitor (Starbucks) | F1: Industry Average | G1: Comment
A2: Year | B2: 2017 | C2: 2016 | D2: 2017 | E2: 2016
A3: Market Capitalization | B3: 127743 | D3: 74835
A4: Market Price per Share | B4: 164.66 | D4: 55.47
A5: Industry WACC | B5: 0.0581 | D5: 0.0581
A6: Performance measures
A7: Market value added (MVA) | B7: =(1660.6*B4)-(MacDonalds_BS!B19-SUM(MacDonalds_BS!B28:B32)) -> 276702.4 | D7: =(1485.1*D4)-(Starbucks_BS!B17-Starbucks_BS!B27) -> 76921.497 | G7: McDonalds has a much higher market value compared to its book value compared to its competitor.
A8: Market-to-book ratio | B8: =B3/(MacDonalds_BS!B19-SUM(MacDonalds_BS!B28:B32)) -> -39.089045 | D8: =D3/(Starbucks_BS!B17-Starbucks_BS!B27) -> 13.713579 | G8: McDonalds has a negative market-to-book ratio because its theoretically purely financed by debt.
A9: Economic value added and profitability measures
A10: EVA | B10: =MacDonalds_IS!B20-(Ratios!B5*MacDonalds_BS!B41) -> 3228.305 | D10: =Starbucks_IS!B21-(Ratios!D5*Starbucks_BS!B36) -> 2050.0586 | G10: McDonalds' net income is greater than its capital cost by a bigger margin than the company's competitor.
A11: Return on capital (ROC) | B11: =MacDonalds_IS!B20/MacDonalds_BS!B41 -> 0.15360153 | C11: =MacDonalds_IS!C20/MacDonalds_BS!C41 -> 0.15106096 | D11: =Starbucks_IS!B21/Starbucks_BS!B36 -> 0.20080609 | E11: =Starbucks_IS!C21/Starbucks_BS!C36 -> 0.19686987 | G11: McDonalds' efficiency in the use of its capital is lower than its competitors.
A12: Return on assets (ROA) | B12: =MacDonalds_IS!B20/MacDonalds_BS!B19 -> 0.15360153 | C12: =MacDonalds_IS!C20/MacDonalds_BS!C19 -> 0.15106096 | D12: =Starbucks_IS!B21/Starbucks_BS!B17 -> 0.20080609 | E12: =Starbucks_IS!C21/Starbucks_BS!C17 -> 0.19686987 | G12: McDonalds' efficiency in the use of its capital to deliver sales is lower than other industry players.
A13: Return on equity (ROE) | B13: =MacDonalds_IS!B20/MacDonalds_BS!B40 -> -1.5888311 | C13: =MacDonalds_IS!C20/MacDonalds_BS!C40 -> -2.1260718 | D13: =Starbucks_IS!B21/Starbucks_BS!B35 -> 0.52862379 | E13: =Starbucks_IS!C21/Starbucks_BS!C35 -> 0.47833025 | G13: McDonalds has a negative ROE because its total equity is negative/ The company's is theoretically purely financed by debt. However in reality, since it is a limited liability company, the company still has shareholders.
A14: Measuring efficiency—asset management or turnover measures
A15: Assets turnover | B15: =MacDonalds_IS!B6/MacDonalds_BS!B19 -> 0.67508586 | C15: =MacDonalds_IS!C6/MacDonalds_BS!C19 -> 0.79364297 | D15: =Starbucks_IS!B4/Starbucks_BS!B17 -> 1.5583616 | E15: =Starbucks_IS!C4/Starbucks_BS!C17 -> 1.4893205 | G15: McDonalds assets produce a lower level of sales compared to the industry, which shows lower efficiency in the use of assets.
A16: Fixed assets turnover | B16: =MacDonalds_IS!B6/(MacDonalds_BS!B19-MacDonalds_BS!B9) -> 0.80137657 | C16: =MacDonalds_IS!C6/(MacDonalds_BS!C19-MacDonalds_BS!C9) -> 0.94065398 | D16: =Starbucks_IS!B4/(Starbucks_BS!B17-Starbucks_BS!B9) -> 2.4649094 | E16: =Starbucks_IS!C4/(Starbucks_BS!C17-Starbucks_BS!C9) -> 2.2309568 | G16: McDonalds fixed assets produce a lower level of sales compared to the industry, which shows lower efficiency in the use of assets.
A17: Inventory turnover | B17: =MacDonalds_IS!B6/MacDonalds_BS!B6 -> 388.10204 | C17: =MacDonalds_IS!C6/MacDonalds_BS!C6 -> 418.02886 | D17: =Starbucks_IS!B4/Starbucks_BS!B7 -> 16.41261 | E17: =Starbucks_IS!C4/Starbucks_BS!C7 -> 15.463112 | G17: McDonalds sells its stock at a much faster rate as compared to its competitors.
A18: Average days in inventory | B18: =365/B17 -> 0.94047431 | C18: =365/C17 -> 0.87314545 | D18: =365/D17 -> 22.238998 | E18: =365/E17 -> 23.604563 | G18: McDonalds has a lower stock holding period.
A19: Receivables turnover | B19: =MacDonalds_IS!B6/MacDonalds_BS!B5 -> 11.547617 | C19: =MacDonalds_IS!C6/MacDonalds_BS!C5 -> 16.703005 | D19: =Starbucks_IS!B4/Starbucks_BS!B6 -> 25.720129 | E19: =Starbucks_IS!C4/Starbucks_BS!C6 -> 27.726197 | G19: McDonalds gets paid by its debtors much more slowly than its competitors.
A20: Average collection period | B20: =365/B19 -> 31.608254 | C20: =365/C19 -> 21.852355 | D20: =365/D19 -> 14.19122 | E20: =365/E19 -> 13.164445 | G20: McDonalds takes longer to collect its accounts receivables as compared to its competitors.
A21: Analyzing the return on assets
A22: Profit margin | B22: =MacDonalds_IS!B20/MacDonalds_IS!B6 -> 0.22752888 | C22: =MacDonalds_IS!C20/MacDonalds_IS!C6 -> 0.19033868 | D22: =Starbucks_IS!B21/Starbucks_IS!B4 -> 0.12885718 | E22: =Starbucks_IS!C21/Starbucks_IS!C4 -> 0.13218771 | G22: McDonalds obtains a much higher level of net profits from its total sales.
A23: Operating profit margin | B23: =MacDonalds_IS!B15/MacDonalds_IS!B6 -> 0.41860353 | C23: =MacDonalds_IS!C15/MacDonalds_IS!C6 -> 0.31453706 | D23: =Starbucks_IS!B12/Starbucks_IS!B4 -> 0.18469366 | E23: =Starbucks_IS!C12/Starbucks_IS!C4 -> 0.19571775 | G23: McDonalds has a much higher level of operating profits for each dollar of total sales.
A24: The DuPont system | B24: =B22*B15*(MacDonalds_BS!B19/MacDonalds_BS!B40) -> -1.5888311 | C24: =C22*C15*(MacDonalds_BS!C19/MacDonalds_BS!C40) -> -2.1260718 | D24: =D22*D15*(Starbucks_BS!B17/Starbucks_BS!B35) -> 0.52862379 | E24: =E22*E15*(Starbucks_BS!C17/Starbucks_BS!C35) -> 0.47833025 | G24: Due to negative total equity at McDonalds, its return on on equity using the DuPont system is negative.
A25: Measuring financial leverage—long-term solvency measures
A26: Long-term debt ratio | B26: =MacDonalds_BS!B29/MacDonalds_BS!B19 -> 0.87376234 | C26: =MacDonalds_BS!C29/MacDonalds_BS!C19 -> 0.83414722 | D26: =Starbucks_BS!B25/Starbucks_BS!B17 -> 0.27375118 | E26: =Starbucks_BS!C25/Starbucks_BS!C17 -> 0.22255371 | F26: =IndustryRatios!F6 -> 5.2725 | G26: McDonalds has higher long-term debt compared to its assets. This makes it a riskier investment.
A27: Long-term debt–equity ratio | B27: =MacDonalds_BS!B29/MacDonalds_BS!B40 -> -9.0380661 | C27: =MacDonalds_BS!C29/MacDonalds_BS!C40 -> -11.740008 | D27: =Starbucks_BS!B25/Starbucks_BS!B35 -> 0.72065237 | E27: =Starbucks_BS!C25/Starbucks_BS!C35 -> 0.5407337 | F27: =IndustryRatios!F7 -> 0.0375 | G27: Because of negative total equity, McDonalds long-term debt to equity ratio is negative.
A28: Total debt ratio | B28: =SUM(MacDonalds_BS!B28:B32)/MacDonalds_BS!B19 -> 1.0966758 | C28: =SUM(MacDonalds_BS!C28:C32)/MacDonalds_BS!C19 -> 1.0710517 | D28: =Starbucks_BS!B27/Starbucks_BS!B17 -> 0.62013421 | E28: =Starbucks_BS!C27/Starbucks_BS!C17 -> 0.58842271 | G28: Total debt compared to total assets is higher in McDonalds than in its competitors.
A29: Times interest earned | B29: =MacDonalds_IS!B15/MacDonalds_IS!B16 -> 10.368718 | C29: =MacDonalds_IS!C15/MacDonalds_IS!C16 -> 8.7528255 | D29: =Starbucks_IS!B12/Starbucks_IS!B16 -> -44.699459 | E29: =Starbucks_IS!C12/Starbucks_IS!C16 -> -51.314883 | F29: =IndustryRatios!F8 -> 10.995 | G29: McDonalds times interest earned is lower than the industry average. A negative times interest earned in Starbucks is because of negative interest suggecting that interest earned is greates than interest pid out in the company.
A30: Cash coverage ratio | B30: =MacDonalds_BS!B4/MacDonalds_IS!B16 -> 2.6742646 | C30: =MacDonalds_BS!C4/MacDonalds_IS!C16 -> 1.3826854 | D30: =Starbucks_BS!B4/Starbucks_IS!B16 -> -26.619459 | E30: =Starbucks_BS!C4/Starbucks_IS!C16 -> -26.184502 | G30: McDonalds has a lower cash coverage ration than its competitor whose cash coverage ratio is negative due to negative interest expense.
A31: Measuring liquidity—short-term solvency or liquidity measures
A32: NWC to total assets ratio | B32: =(MacDonalds_BS!B9-MacDonalds_BS!B28)/MacDonalds_BS!B19 -> 0.072080867 | C32: =(MacDonalds_BS!C9-MacDonalds_BS!C28)/MacDonalds_BS!C19 -> 0.044491505 | D32: =(Starbucks_BS!B9-Starbucks_BS!B24)/Starbucks_BS!B17 -> 0.07397533 | E32: =(Starbucks_BS!C9-Starbucks_BS!C24)/Starbucks_BS!C17 -> 0.014749345 | G32: The company's net working ratio to total assets is similar to that of its competitors.
A33: Current ratio | B33: =MacDonalds_BS!B9/MacDonalds_BS!B28 -> 1.8429392 | C33: =MacDonalds_BS!C9/MacDonalds_BS!C28 -> 1.397976 | D33: =Starbucks_BS!B9/Starbucks_BS!B24 -> 1.2517829 | E33: =Starbucks_BS!C9/Starbucks_BS!C24 -> 1.0464283 | G33: McDonalds current assets cover the current liabilities by a much higher margin than its competitor.
A34: Quick ratio | B34: =(MacDonalds_BS!B9-MacDonalds_BS!B6)/MacDonalds_BS!B28 -> 1.8225974 | C34: =(MacDonalds_BS!C9-MacDonalds_BS!C6)/MacDonalds_BS!C28 -> 1.3809936 | D34: =(Starbucks_BS!B9-Starbucks_BS!B7)/Starbucks_BS!B24 -> 0.92861374 | E34: =(Starbucks_BS!C9-Starbucks_BS!C7)/Starbucks_BS!C24 -> 0.743248 | F34: =IndustryRatios!F3 -> 0.645 | G34: McDonalds current assets less inventory cover the current liabilities by a much higher margin than its competitor.
A35: Cash ratio | B35: =MacDonalds_BS!B4/MacDonalds_BS!B28 -> 0.85234899 | C35: =MacDonalds_BS!C4/MacDonalds_BS!C28 -> 0.35273765 | D35: =Starbucks_BS!B4/Starbucks_BS!B24 -> 0.58338664 | E35: =Starbucks_BS!C4/Starbucks_BS!C24 -> 0.46819741 | G35: McDonalds has higher cash levels to cover its current liabilities compared to its competitors.
A36: Growth measures
A37: Payout ratio | B37: =MacDonalds_IS!B23/MacDonalds_IS!B21 -> 0.59564541 | C37: =MacDonalds_IS!C23/MacDonalds_IS!C21 -> 0.6575592 | D37: =1.26/Starbucks_IS!B22 -> 0.63316583 | E37: =1.26/Starbucks_IS!C22 -> 0.65968586 | G37: McDonalds' dividends payout despite is almost similar to its competitors.
A38: Sustainable growth | B38: =B13*(1-B37) -> -0.64245114 | C38: =C13*(1-C37) -> -0.72805372 | D38: =D13*(1-D37) -> 0.19391727 | E38: =E13*(1-E37) -> 0.16278255 | G38: Due to negaive ROE, McDonalds' sustainable growth percentage is negative.

Sheet MacDonalds_BS
A1: Consolidated Balance Sheet - USD ($) | B1: Dec. 31, 2017 | C1: Dec. 31, 2016
A2: $ in Millions
A3: Current assets
A4: Cash and equivalents | B4: 2463.8 | C4: 1223.4
A5: Accounts and notes receivable | B5: 1976.2 | C5: 1474.1
A6: Inventories, at cost, not in excess of market | B6: 58.8 | C6: 58.9
A7: Prepaid expenses and other current assets | B7: 828.4 | C7: 565.2
A8: Assets of businesses held for sale | B8: 0 | C8: 1527
A9: Total current assets | B9: 5327.2 | C9: 4848.6
A10: Other assets
A11: Investments in and advances to affiliates | B11: 1085.7 | C11: 725.9
A12: Goodwill | B12: 2379.7 | C12: 2336.5
A13: Miscellaneous | B13: 2562.8 | C13: 1855.3
A14: Total other assets | B14: 6028.2 | C14: 4917.7
A15: Property and equipment
A16: Property and equipment, at cost | B16: 36626.4 | C16: 34443.4
A17: Accumulated depreciation and amortization | B17: -14178.1 | C17: -13185.8
A18: Net property and equipment | B18: 22448.3 | C18: 21257.6
A19: Total assets | B19: 33803.7 | C19: 31023.9
A20: Current liabilities
A21: Accounts payable | B21: 924.8 | C21: 756
A22: Income taxes | B22: 265.8 | C22: 267.2
A23: Other taxes | B23: 275.4 | C23: 266.3
A24: Accrued interest | B24: 278.4 | C24: 247.5
A25: Accrued payroll and other liabilities | B25: 1146.2 | C25: 1159.3
A26: Current maturities of long term debt | B26: 0 | C26: 77.2
A27: Liabilities of businesses held for sale | B27: 0 | C27: 694.8
A28: Total current liabilities | B28: 2890.6 | C28: 3468.3
A29: Long-term debt | B29: 29536.4 | C29: 25878.5
A30: Long-term income taxes | B30: 2370.9 | C30: 1010.6
A31: Other long-term liabilities | B31: 1154.4 | C31: 1053.7
A32: Deferred income taxes | B32: 1119.4 | C32: 1817.1
A33: Shareholders' equity (deficit)
A34: Preferred stock, no par value; authorized – 165.0 million shares; issued – none | B34: 0 | C34: 0
A35: Common stock, $.01 par value; authorized – 3.5 billion shares; issued – 1,660.6 million shares | B35: 16.6 | C35: 16.6
A36: Additional paid-in capital | B36: 7072.4 | C36: 6757.9
A37: Retained earnings | B37: 48325.8 | C37: 46222.7
A38: Accumulated other comprehensive income | B38: -2178.4 | C38: -3092.9
A39: Common stock in treasury, at cost; 866.5 and 841.3 million shares | B39: -56504.4 | C39: -52108.6
A40: Total shareholders' equity (deficit) | B40: -3268 | C40: -2204.3
...

Sheet MacDonalds_IS
A1: Consolidated Statement of Income - USD ($) | B1: 12 Months Ended
A2: shares in Millions, $ in Millions | B2: Dec. 31, 2017 | C2: Dec. 31, 2016 | D2: Dec. 31, 2015
A3: REVENUES
A4: Sales by Company-operated restaurants | B4: 12718.9 | C4: 15295 | D4: 16488.3
A5: Revenues from franchised restaurants | B5: 10101.5 | C5: 9326.9 | D5: 8924.7
A6: Total revenues | B6: 22820.4 | C6: 24621.9 | D6: 25413
A7: OPERATING COSTS AND EXPENSES
A8: Food & paper | B8: 4033.5 | C8: 4896.9 | D8: 5552.2
A9: Payroll & employee benefits | B9: 3528.5 | C9: 4134.2 | D9: 4400
A10: Occupancy & other operating expenses | B10: 2847.6 | C10: 3667.7 | D10: 4024.7
A11: Franchised restaurants-occupancy expenses | B11: 1790 | C11: 1718.4 | D11: 1646.9
A12: Selling, general & administrative expenses | B12: 2231.3 | C12: 2384.5 | D12: 2434.3
A13: Other operating (income) expense, net | B13: -1163.2 | C13: 75.7 | D13: 209.4
A14: Total operating costs and expenses | B14: 13267.7 | C14: 16877.4 | D14: 18267.5
A15: Operating income | B15: 9552.7 | C15: 7744.5 | D15: 7145.5
A16: Interest expense-net of capitalized interest of $5.3, $7.1 and $9.4 | B16: 921.3 | C16: 884.8 | D16: 638.3
A17: Nonoperating (income) expense, net | B17: 57.9 | C17: -6.3 | D17: -48.5
A18: Income before provision for income taxes | B18: 8573.5 | C18: 6866 | D18: 6555.7
A19: Provision for income taxes | B19: 3381.2 | C19: 2179.5 | D19: 2026.4
... A25: Weighted-average shares outstanding–diluted | B25: 815.5 | C25: 861.2 | D25: 944.6

Sheet MacDonalds_CFS
A1: Consolidated Statement of Cash Flows | B1: 12 Months Ended
A2: $ in Millions | B2: Dec. 31, 2017 | C2: Dec. 31, 2016 | D2: Dec. 31, 2015
B3: USD ($) | C3: USD ($) | D3: USD ($)
A4: Operating activities
A5: Net income | B5: 5192.3 | C5: 4686.5 | D5: 4529.3
A6: Charges and credits:
A7: Depreciation and amortization | B7: 1363.4 | C7: 1516.5 | D7: 1555.7
A8: Deferred income taxes | B8: -36.4 | C8: -538.6 | D8: -1.4
A9: Share-based compensation | B9: 117.5 | C9: 131.3 | D9: 110
A10: Net gain on sale of restaurant businesses | B10: -1155.8 | C10: -310.7 | D10: -163.9
A11: Other | B11: 1050.7 | C11: 407.6 | D11: 341.5
A12: Changes in working capital items:
A13: Accounts receivable | B13: -340.7 | C13: -159 | D13: -180.6
A14: Inventories, prepaid expenses and other current assets | B14: -37.3 | C14: 28.1 | D14: 44.9
A15: Accounts payable | B15: -59.7 | C15: 89.8 | D15: -15
A16: Income taxes | B16: -396.4 | C16: 169.7 | D16: -64.4
A17: Other accrued liabilities | B17: -146.4 | C17: 38.4 | D17: 383
A18: Cash provided by operations | B18: 5551.2 | C18: 6059.6 | D18: 6539.1
A19: Investing activities
A20: Capital expenditures | B20: -1853.7 | C20: -1821.1 | D20: -1813.9
A21: Purchases of restaurant businesses | B21: -77 | C21: -109.5 | D21: -140.6
A22: Sales of restaurant businesses | B22: 974.8 | C22: 975.6 | D22: 341.1
A23: Proceeds from sale of businesses in China and Hong Kong | B23: 1597 | C23: 0 | D23: 0
A24: Sales of property | B24: 166.8 | C24: 82.9 | D24: 213.1
A25: Other | B25: -245.9 | C25: -109.5 | D25: -19.7
A26: Cash provided by (used for) investing activities | B26: 562 | C26: -981.6 | D26: -1420
A27: Financing activities
A28: Net short-term borrowings | B28: -1050.3 | C28: -286.2 | D28: 589.7
A29: Long-term financing issuances | B29: 4727.5 | C29: 3779.5 | D29: 10220
A30: Long-term financing repayments | B30: -1649.4 | C30: -822.9 | D30: -1054.5
A31: Treasury stock purchases | B31: -4685.7 | C31: -11171 | D31: -6099.2
A32: Common stock dividends | B32: -3089.2 | C32: -3058.2 | D32: -3230.3
A33: Proceeds from stock option exercises | B33: 456.8 | C33: 299.4 | D33: 317.2
A34: Excess tax benefit on share-based compensation | B34: 0 | C34: 0 | D34: 51.1
A35: Other | B35: -20.5 | C35: -3 | D35: -58.7
A36: Cash provided by (used for) financing activities | B36: -5310.8 | C36: -11262.4 | D36: 735.3
A37: Effect of exchange rates on cash and equivalents | B37: 264 | C37: -103.7 | D37: -246.8
A38: Cash and equivalents increase (decrease) | B38: 1066.4 | C38: -6288.1 | D38: 5607.6
A39: Change in cash balances of businesses held for sale | B39: 174 | C39: -174 | D39: 0
... A41: Cash and equivalents at end of year | B41: 2463.8 | C41: 1223.4 | D41: 7685.5
...

Sheet Starbucks_BS
A1: Consolidated Balance Sheets - USD ($) | B1: Oct. 01, 2017 | C1: Oct. 02, 2016
A2: $ in Millions
A3: Current assets:
A4: Cash and cash equivalents | B4: 2462.3 | C4: 2128.8
A5: Short-term investments | B5: 228.6 | C5: 134.4
A6: Accounts receivable, net | B6: 870.4 | C6: 768.8
A7: Inventories | B7: 1364 | C7: 1378.5
A8: Prepaid expenses and other current assets | B8: 358.1 | C8: 347.4
A9: Total current assets | B9: 5283.4 | C9: 4757.9
A10: Long-term investments | B10: 542.3 | C10: 1141.7
A11: Equity and cost investments | B11: 481.6 | C11: 354.5
A12: Property, plant and equipment, net | B12: 4919.5 | C12: 4533.8
A13: Deferred income taxes, net | B13: 795.4 | C13: 885.4
A14: Other long-term assets | B14: 362.8 | C14: 403.3
A15: Other intangible assets | B15: 441.4 | C15: 516.3
... A17: TOTAL ASSETS | B17: 14365.6 | C17: 14312.5
A18: Current liabilities:
A19: Accounts payable | B19: 782.5 | C19: 730.6
A20: Accrued liabilities | B20: 1934.5 | C20: 1999.1
A21: Insurance reserves | B21: 215.2 | C21: 246
A22: Stored value card liability | B22: 1288.5 | C22: 1171.2
A23: Current portion of long-term debt | B23: 0 | C23: 399.9
A24: Total current liabilities | B24: 4220.7 | C24: 4546.8
A25: Long-term debt | B25: 3932.6 | C25: 3185.3
A26: Other long-term liabilities | B26: 755.3 | C26: 689.7
A27: Total liabilities | B27: 8908.6 | C27: 8421.8
A28: Shareholders' equity:
A29: Common stock ($0.001 par value) - authorized, 2,400.0 shares; issued and outstanding, 1,460.5 and 1,485.1 shares, respectively | B29: 1.4 | C29: 1.5
A30: Additional paid-in capital | B30: 41.1 | C30: 41.1
A31: Retained earnings | B31: 5563.2 | C31: 5949.8
A32: Accumulated other comprehensive income/(loss) | B32: -155.6 | C32: -108.4
A33: Total shareholders' equity | B33: 5450.1 | C33: 5884
A34: Noncontrolling interests | B34: 6.9 | C34: 6.7
A35: Total equity | B35: 5457 | C35: 5890.7
A36: TOTAL LIABILITIES AND EQUITY | B36: 14365.6 | C36: 14312.5

Sheet Starbucks_IS
A1: Consolidated Statements of Earnings - USD ($) | B1: 12 Months Ended
A2: shares in Millions, $ in Millions | B2: Oct. 01, 2017 | C2: Oct. 02, 2016 | D2: Sep. 27, 2015
A3: Net Revenues:
A4: Total net revenues | B4: 22386.8 | C4: 21315.9 | D4: 19162.7
A5: Cost of sales including occupancy costs | B5: 9038.2 | C5: 8511.1 | D5: 7787.5
A6: Store operating expenses | B6: 6493.3 | C6: 6064.3 | D6: 5411.1
A7: Other operating expenses | B7: 553.8 | C7: 545.4 | D7: 522.4
A8: Depreciation and amortization expenses | B8: 1011.4 | C8: 980.8 | D8: 893.9
A9: General and administrative expenses | B9: 1393.3 | C9: 1360.6 | D9: 1196.7
A10: Total operating expenses | B10: 18643.5 | C10: 17462.2 | D10: 15811.6
A11: Income from equity investees | B11: 391.4 | C11: 318.2 | D11: 249.9
A12: Operating income | B12: 4134.7 | C12: 4171.9 | D12: 3601
A13: Gain resulting from acquisition of joint venture | B13: 0 | C13: 0 | D13: 390.6
A14: Loss on extinguishment of debt | B14: 0 | C14: 0 | D14: -61.1
A15: Interest income and other, net | B15: 275.3 | C15: 108 | D15: 43
... A23: Earnings per share - diluted | B23: 1.97 | C23: 1.9 | D23: 1.82
A24: Weighted average shares outstanding:
A25: Basic | B25: 1449.5 | C25: 1471.6 | D25: 1495.9
A26: Diluted | B26: 1461.5 | C26: 1486.7 | D26: 1513.4
A27: Restructuring Charges | B27: 153.5 | C27: 0 | D27: 0
A28: Company-operated stores [Member]
A29: Net Revenues:
A30: Total net revenues | B30: 17650.7 | C30: 16844.1 | D30: 15197.3
A31: Licensed stores [Member]
A32: Net Revenues:
A33: Total net revenues | B33: 2355 | C33: 2154.2 | D33: 1861.9
A34: CPG, foodservice and other [Member]
A35: Net Revenues:
A36: Total net revenues | B36: 2381.1 | C36: 2317.6 | D36: 2103.5

Sheet Starbucks_CFS
A1: Consolidated Statements of Cash Flows - USD ($) | B1: 12 Months Ended
A2: $ in Millions | B2: Oct. 01, 2017 | C2: Oct. 02, 2016 | D2: Sep. 27, 2015
A3: OPERATING ACTIVITIES:
A4: Net earnings including noncontrolling interests | B4: 2884.9 | C4: 2818.9 | D4: 2759.3
A5: Adjustments to reconcile net earnings to net cash provided by operating activities:
A6: Depreciation and amortization | B6: 1067.1 | C6: 1030.1 | D6: 933.8
A7: Deferred income taxes, net | B7: 95.1 | C7: 265.7 | D7: 21.2
A8: Income earned from equity method investees | B8: -310.2 | C8: -250.2 | D8: -190.2
A9: Distributions received from equity method investees | B9: 186.6 | C9: 223.3 | D9: 148.2
A10: Deconsolidation, Gain (Loss), Amount | B10: 93.5 | C10: 6.1
A11: Gain resulting from acquisition/sale of equity in joint ventures and certain retail operations | D11: -394.3
A12: Loss on extinguishment of debt | B12: 0 | C12: 0 | D12: 61.1
A13: Stock-based compensation | B13: 176 | C13: 218.1 | D13: 209.8
A14: Excess tax benefit on share-based awards | B14: -77.5 | C14: -122.8 | D14: -132.4
A15: Goodwill, Impairment Loss | B15: 87.2 | C15: 0 | D15: 0
A16: Other | B16: 68.9 | C16: 45.1 | D16: 53.8
A17: Cash provided/(used) by changes in operating assets and liabilities:
A18: Accounts receivable | B18: -96.8 | C18: -55.6 | D18: -82.8
A19: Inventories | B19: 14 | C19: -67.5 | D19: -207.9
A20: Accounts payable | B20: 46.4 | C20: 46.9 | D20: 137.7
A21: Stored value card liability | B21: 130.8 | C21: 180.4 | D21: 170.3
A22: Other operating assets and liabilities | B22: -4.7 | C22: 248.8 | D22: 261.5
A23: Net cash provided by operating activities | B23: 4174.3 | C23: 4575.1 | D23: 3749.1
A24: INVESTING ACTIVITIES:
A25: Purchases of investments | B25: -674.4 | C25: -1585.7 | D25: -567.4
A26: Proceeds from Sale and Maturity of Available-for-sale Securities | B26: 1054.5
A27: Sales of investments | B27: 999.7 | C27: 680.7 | D27: 600.6
A28: Maturities and calls of investments | B28: 149.6 | C28: 27.9 | D28: 18.8
A29: Acquisitions, net of cash acquired | B29: 0 | C29: 0 | D29: -284.3
A30: Additions to property, plant and equipment | B30: -1519.4 | C30: -1440.3 | D30: -1303.7
A31: Net proceeds from sale of equity in joint ventures and certain retail operations | B31: 85.4 | C31: 69.6 | D31: 8.9
A32: Other | B32: 54.3 | C32: 24.9 | D32: 6.8
A33: Net cash used by investing activities | B33: -850 | C33: -2222.9 | D33: -1520.3
A34: FINANCING ACTIVITIES:
A35: Proceeds from issuance of long-term debt | B35: 750.2 | C35: 1254.5 | D35: 848.5
A36: Repayments of long-term debt | B36: -400 | C36: 0 | D36: -610.1
A37: Cash used for purchase of non-controlling interest | B37: 0 | C37: 0 | D37: -360.8
A38: Proceeds from issuance of common stock | B38: 150.8 | C38: 160.7 | D38: 191.8
A39: Excess tax benefit on share-based awards | B39: 77.5 | C39: 122.8 | D39: 132.4
A40: Cash dividends paid | B40: -1450.4 | C40: -1178 | D40: -928.6
...

Sheet IndustryRatios
A1: Restaurants Industry | B1: 2 Q | C1: 1 Q | D1: 4 Q | E1: 3 Q
B2: 2018 | C2: 2018 | D2: 2017 | E2: 2017 | F2: Average
A3: Quick Ratio (TTM) | B3: 0.55 | C3: 0.68 | D3: 0.69 | E3: 0.66 | F3: =AVERAGE(B3:E3) -> 0.645
A4: Working Capital Ratio (TTM) | B4: 1.17 | C4: 1.3 | D4: 1.3 | E4: 1.31 | F4: =AVERAGE(B4:E4) -> 1.27
A5: Working Capital Per Revenue | B5: 0.03 | C5: 0.05 | D5: 0.05 | E5: 0.05 | F5: =AVERAGE(B5:E5) -> 0.045
A6: Leverage Ratio (TTM) | B6: 6.16 | C6: 5.16 | D6: 4.67 | E6: 5.1 | F6: =AVERAGE(B6:E6) -> 5.2725
A7: Total Debt to Equity (TTM) | B7: 0.05 | C7: 0.04 | D7: 0.03 | E7: 0.03 | F7: =AVERAGE(B7:E7) -> 0.0375
A8: Interest Coverage (TTM) | B8: 10.48 | C8: 10.9 | D8: 11.61 | E8: 10.99 | F8: =AVERAGE(B8:E8) -> 10.995
A9: Debt Coverage (TTM) | B9: 28.11 | C9: 33.47 | D9: 33.95 | E9: 36.58 | F9: =AVERAGE(B9:E9) -> 33.0275
A12: Source: | B12: https://csimarket.com/Industry/industry_Financial_Strength_Ratios.php?ind=914
